BEGIN:VCALENDAR
VERSION:2.0
PRODID:-//nz-ailingen.de - ECPv6.7.0//NONSGML v1.0//EN
CALSCALE:GREGORIAN
METHOD:PUBLISH
X-WR-CALNAME:nz-ailingen.de
X-ORIGINAL-URL:https://nz-ailingen.de
X-WR-CALDESC:Veranstaltungen für nz-ailingen.de
REFRESH-INTERVAL;VALUE=DURATION:PT1H
X-Robots-Tag:noindex
X-PUBLISHED-TTL:PT1H
BEGIN:VTIMEZONE
TZID:Europe/Berlin
BEGIN:DAYLIGHT
TZOFFSETFROM:+0100
TZOFFSETTO:+0200
TZNAME:CEST
DTSTART:20250330T010000
END:DAYLIGHT
BEGIN:STANDARD
TZOFFSETFROM:+0200
TZOFFSETTO:+0100
TZNAME:CET
DTSTART:20251026T010000
END:STANDARD
END:VTIMEZONE
BEGIN:VEVENT
DTSTART;TZID=Europe/Berlin:20250112T135900
DTEND;TZID=Europe/Berlin:20250112T160000
DTSTAMP:20260423T123901
CREATED:20241209T210037Z
LAST-MODIFIED:20241209T210135Z
UID:177-1736690340-1736697600@nz-ailingen.de
SUMMARY:Kinderumzug in Eriskirch/Mariabrunn
DESCRIPTION:
URL:https://nz-ailingen.de/event/kinderumzug-in-eriskirch-mariabrunn/
END:VEVENT
END:VCALENDAR