BEGIN:VCALENDAR
VERSION:2.0
PRODID:-//nz-ailingen.de - ECPv6.7.0//NONSGML v1.0//EN
CALSCALE:GREGORIAN
METHOD:PUBLISH
X-WR-CALNAME:nz-ailingen.de
X-ORIGINAL-URL:https://nz-ailingen.de
X-WR-CALDESC:Veranstaltungen für nz-ailingen.de
REFRESH-INTERVAL;VALUE=DURATION:PT1H
X-Robots-Tag:noindex
X-PUBLISHED-TTL:PT1H
BEGIN:VTIMEZONE
TZID:Europe/Berlin
BEGIN:DAYLIGHT
TZOFFSETFROM:+0100
TZOFFSETTO:+0200
TZNAME:CEST
DTSTART:20250330T010000
END:DAYLIGHT
BEGIN:STANDARD
TZOFFSETFROM:+0200
TZOFFSETTO:+0100
TZNAME:CET
DTSTART:20251026T010000
END:STANDARD
END:VTIMEZONE
BEGIN:VEVENT
DTSTART;TZID=Europe/Berlin:20250201T130000
DTEND;TZID=Europe/Berlin:20250201T180000
DTSTAMP:20260423T124019
CREATED:20241209T211727Z
LAST-MODIFIED:20241209T211727Z
UID:193-1738414800-1738432800@nz-ailingen.de
SUMMARY:Narrenbaumsetzen am Ailinger Rathausplatz
DESCRIPTION:Treffpunkt: ab 13:00 Uhr bei Wieland`s\, Umzugsstart: 13:40 Uhr
URL:https://nz-ailingen.de/event/narrenbaumsetzen-am-ailinger-rathausplatz/
CATEGORIES:Extern
END:VEVENT
BEGIN:VEVENT
DTSTART;TZID=Europe/Berlin:20250201T190000
DTEND;TZID=Europe/Berlin:20250201T233000
DTSTAMP:20260423T124019
CREATED:20241209T211812Z
LAST-MODIFIED:20241209T211812Z
UID:195-1738436400-1738452600@nz-ailingen.de
SUMMARY:Jubiläumsparty im Zelt neben der Rotach-Halle
DESCRIPTION:Einlass: 19:00 Uhr\, Beginn: 19:30 Uhr
URL:https://nz-ailingen.de/event/jubilaeumsparty-im-zelt-neben-der-rotach-halle/
END:VEVENT
BEGIN:VEVENT
DTSTART;TZID=Europe/Berlin:20250202T090000
DTEND;TZID=Europe/Berlin:20250202T100000
DTSTAMP:20260423T124019
CREATED:20241209T211856Z
LAST-MODIFIED:20241209T211856Z
UID:197-1738486800-1738490400@nz-ailingen.de
SUMMARY:Narrenmesse in der St. Johannes Baptist Kirche
DESCRIPTION:
URL:https://nz-ailingen.de/event/narrenmesse-in-der-st-johannes-baptist-kirche/
CATEGORIES:Extern
END:VEVENT
BEGIN:VEVENT
DTSTART;TZID=Europe/Berlin:20250202T133000
DTEND;TZID=Europe/Berlin:20250202T170000
DTSTAMP:20260423T124019
CREATED:20241209T211934Z
LAST-MODIFIED:20241209T211934Z
UID:199-1738503000-1738515600@nz-ailingen.de
SUMMARY:Jubiläumsumzug Ailingen – großer Narrensprung
DESCRIPTION:
URL:https://nz-ailingen.de/event/jubilaeumsumzug-ailingen-grosser-narrensprung/
CATEGORIES:Extern
END:VEVENT
BEGIN:VEVENT
DTSTART;TZID=Europe/Berlin:20250207T193000
DTEND;TZID=Europe/Berlin:20250207T233000
DTSTAMP:20260423T124019
CREATED:20241209T212042Z
LAST-MODIFIED:20241209T212042Z
UID:201-1738956600-1738971000@nz-ailingen.de
SUMMARY:Hexenrauhnacht in Ulm
DESCRIPTION:Ab 18 Jahren\nBeginn: 19:030 Uhr – Anfahrt mit Bus\, Busabfahrt um 15:00 Uhr an der Rotach-Halle
URL:https://nz-ailingen.de/event/hexenrauhnacht-in-ulm/
CATEGORIES:Extern
END:VEVENT
BEGIN:VEVENT
DTSTART;TZID=Europe/Berlin:20250209T133000
DTEND;TZID=Europe/Berlin:20250209T180000
DTSTAMP:20260423T124019
CREATED:20241209T212135Z
LAST-MODIFIED:20241209T212135Z
UID:203-1739107800-1739124000@nz-ailingen.de
SUMMARY:Umzug in Ulm
DESCRIPTION:Anfahrt mit Bus\, Busabfahrt um 09:00 Uhr an der Rotach-Halle
URL:https://nz-ailingen.de/event/umzug-in-ulm/
CATEGORIES:Extern
END:VEVENT
BEGIN:VEVENT
DTSTART;VALUE=DATE:20250215
DTEND;VALUE=DATE:20250216
DTSTAMP:20260423T124019
CREATED:20241209T212200Z
LAST-MODIFIED:20241209T212200Z
UID:205-1739577600-1739663999@nz-ailingen.de
SUMMARY:Narrenbaumsetzen Bitzenhofen
DESCRIPTION:
URL:https://nz-ailingen.de/event/narrenbaumsetzen-bitzenhofen/
CATEGORIES:Extern
END:VEVENT
BEGIN:VEVENT
DTSTART;TZID=Europe/Berlin:20250215T190000
DTEND;TZID=Europe/Berlin:20250215T233000
DTSTAMP:20260423T124019
CREATED:20241209T212254Z
LAST-MODIFIED:20241209T212254Z
UID:207-1739646000-1739662200@nz-ailingen.de
SUMMARY:Oilinger Zunftball
DESCRIPTION:
URL:https://nz-ailingen.de/event/oilinger-zunftball/
LOCATION:Rotach-Halle
CATEGORIES:Extern
END:VEVENT
BEGIN:VEVENT
DTSTART;VALUE=DATE:20250216
DTEND;VALUE=DATE:20250217
DTSTAMP:20260423T124019
CREATED:20241209T212334Z
LAST-MODIFIED:20241209T212334Z
UID:209-1739664000-1739750399@nz-ailingen.de
SUMMARY:Frühschoppen in der Zunftstube
DESCRIPTION:
URL:https://nz-ailingen.de/event/fruehschoppen-in-der-zunftstube/
CATEGORIES:Intern
END:VEVENT
BEGIN:VEVENT
DTSTART;TZID=Europe/Berlin:20250223T133100
DTEND;TZID=Europe/Berlin:20250223T170000
DTSTAMP:20260423T124019
CREATED:20241209T212431Z
LAST-MODIFIED:20241209T212431Z
UID:211-1740317460-1740330000@nz-ailingen.de
SUMMARY:Umzug in Scheidegg
DESCRIPTION:Anfahrt mit dem Bus\, Busabfahrt um 11:00 Uhr an der Rotach-Halle
URL:https://nz-ailingen.de/event/umzug-in-scheidegg/
CATEGORIES:Extern
END:VEVENT
BEGIN:VEVENT
DTSTART;TZID=Europe/Berlin:20250226T153000
DTEND;TZID=Europe/Berlin:20250226T170000
DTSTAMP:20260423T124019
CREATED:20241209T213517Z
LAST-MODIFIED:20241209T213517Z
UID:241-1740583800-1740589200@nz-ailingen.de
SUMMARY:Kaffeekränzle und Küchleshock
DESCRIPTION:
URL:https://nz-ailingen.de/event/kaffeekraenzle-und-kuechleshock/
LOCATION:Zunftstube
CATEGORIES:Intern
END:VEVENT
BEGIN:VEVENT
DTSTART;TZID=Europe/Berlin:20250227T083000
DTEND;TZID=Europe/Berlin:20250227T093000
DTSTAMP:20260423T124019
CREATED:20241209T212514Z
LAST-MODIFIED:20241209T212514Z
UID:213-1740645000-1740648600@nz-ailingen.de
SUMMARY:Narrenmesse in der Kirche Ailingen
DESCRIPTION:
URL:https://nz-ailingen.de/event/narrenmesse-in-der-kirche-ailingen/
CATEGORIES:Extern
END:VEVENT
BEGIN:VEVENT
DTSTART;TZID=Europe/Berlin:20250227T093000
DTEND;TZID=Europe/Berlin:20250227T110000
DTSTAMP:20260423T124019
CREATED:20241209T212600Z
LAST-MODIFIED:20241209T212600Z
UID:215-1740648600-1740654000@nz-ailingen.de
SUMMARY:Schulstürmen
DESCRIPTION:
URL:https://nz-ailingen.de/event/schulstuermen/
CATEGORIES:Extern
END:VEVENT
BEGIN:VEVENT
DTSTART;TZID=Europe/Berlin:20250227T143000
DTEND;TZID=Europe/Berlin:20250227T170000
DTSTAMP:20260423T124019
CREATED:20241209T212635Z
LAST-MODIFIED:20241209T212635Z
UID:217-1740666600-1740675600@nz-ailingen.de
SUMMARY:Narrenbaumsetzen in Lottenweiler
DESCRIPTION:
URL:https://nz-ailingen.de/event/narrenbaumsetzen-in-lottenweiler/
CATEGORIES:Extern
END:VEVENT
BEGIN:VEVENT
DTSTART;TZID=Europe/Berlin:20250228T190000
DTEND;TZID=Europe/Berlin:20250228T230000
DTSTAMP:20260423T124019
CREATED:20241209T212729Z
LAST-MODIFIED:20241209T212729Z
UID:219-1740769200-1740783600@nz-ailingen.de
SUMMARY:Hemdglonkerball in Ailingen
DESCRIPTION:Einlass nur im Hemdglonker: 1 Euro (auch für Mitglieder)
URL:https://nz-ailingen.de/event/hemdglonkerball-in-ailingen/
LOCATION:Rotach-Halle
END:VEVENT
END:VCALENDAR